BEGIN:VCALENDAR
VERSION:2.0
PRODID:-//demosphere.net//NONSGML kigkonsult.se iCalcreator 2.22.1//
METHOD:REQUEST
X-WR-TIMEZONE:Europe/Athens
BEGIN:VEVENT
UID:https://mail.kinimatorama.net/event/131277
DTSTAMP:20211127T100000Z
DESCRIPTION:περισσότερες πληροφορίες: https://mail.kinimatorama.net/event/1
 31277 
DTSTART:20211127T100000Z
DTEND:20211127T110000Z
GEO:+39.620611;+19.91523
LOCATION:Κέρκυρα\, \nκατάληψη Αντινομία \nπαλιό ψυχιατρείο
SUMMARY:Κοινωνική Κουζίνα και Συλλογή Τροφίμων
URL:https://mail.kinimatorama.net/event/131277
END:VEVENT
END:VCALENDAR
