BEGIN:VCALENDAR
VERSION:2.0
PRODID:-//demosphere.net//NONSGML kigkonsult.se iCalcreator 2.22.1//
METHOD:REQUEST
X-WR-TIMEZONE:Europe/Athens
BEGIN:VEVENT
UID:https://mail.kinimatorama.net/event/131463
DTSTAMP:20211114T180000Z
DESCRIPTION:περισσότερες πληροφορίες: https://mail.kinimatorama.net/event/1
 31463 
DTSTART:20211114T180000Z
DTEND:20211114T190000Z
GEO:+39.620611;+19.91523
LOCATION:Κέρκυρα\, \nκατάληψη Αντινομία \nπαλιό ψυχιατρείο
SUMMARY:Προβολή του ντοκιμαντέρ 'Crass: there is no authority but yourself'
  & bar
URL:https://mail.kinimatorama.net/event/131463
END:VEVENT
END:VCALENDAR
