BEGIN:VCALENDAR
VERSION:2.0
PRODID:-//demosphere.net//NONSGML kigkonsult.se iCalcreator 2.22.1//
METHOD:REQUEST
X-WR-TIMEZONE:Europe/Athens
BEGIN:VEVENT
UID:https://mail.kinimatorama.net/event/131464
DTSTAMP:20211113T143000Z
DESCRIPTION:περισσότερες πληροφορίες: https://mail.kinimatorama.net/event/1
 31464 
DTSTART:20211113T143000Z
DTEND:20211113T153000Z
GEO:+39.620611;+19.91523
LOCATION:Κέρκυρα\, \nκατάληψη Αντινομία \nπαλιό ψυχιατρείο
SUMMARY:Διαχειριστική Συνέλευση της κατάληψης Αντινομία
URL:https://mail.kinimatorama.net/event/131464
END:VEVENT
END:VCALENDAR
