BEGIN:VCALENDAR
VERSION:2.0
PRODID:-//demosphere.net//NONSGML kigkonsult.se iCalcreator 2.22.1//
METHOD:REQUEST
X-WR-TIMEZONE:Europe/Athens
BEGIN:VEVENT
UID:https://mail.kinimatorama.net/event/131607
DTSTAMP:20211118T190000Z
DESCRIPTION:περισσότερες πληροφορίες: https://mail.kinimatorama.net/event/1
 31607 
DTSTART:20211118T190000Z
DTEND:20211118T200000Z
GEO:+39.620611;+19.91523
LOCATION:Κέρκυρα\, \nκατάληψη Αντινομία \nπαλιό ψυχιατρείο
SUMMARY:Bar ελεύθερης οικονομικής συνεισφοράς για δικαστικά έξοδα συντρόφου
URL:https://mail.kinimatorama.net/event/131607
END:VEVENT
END:VCALENDAR
