BEGIN:VCALENDAR
VERSION:2.0
PRODID:-//demosphere.net//NONSGML kigkonsult.se iCalcreator 2.22.1//
METHOD:REQUEST
X-WR-TIMEZONE:Europe/Athens
BEGIN:VEVENT
UID:https://mail.kinimatorama.net/event/132525
DTSTAMP:20211211T190000Z
DESCRIPTION:περισσότερες πληροφορίες: https://mail.kinimatorama.net/event/1
 32525 
DTSTART:20211211T190000Z
DTEND:20211211T200000Z
GEO:+39.620611;+19.91523
LOCATION:Κέρκυρα\, \nκατάληψη Αντινομία \nπαλιό ψυχιατρείο
SUMMARY:Dance bar οικονομικής ενίσχυσης για ιατρικά έξοδα τετράποδου συντρο
 φιού
URL:https://mail.kinimatorama.net/event/132525
END:VEVENT
END:VCALENDAR
