BEGIN:VCALENDAR
VERSION:2.0
PRODID:-//demosphere.net//NONSGML kigkonsult.se iCalcreator 2.22.1//
METHOD:REQUEST
X-WR-TIMEZONE:Europe/Athens
BEGIN:VEVENT
UID:https://mail.kinimatorama.net/event/132734
DTSTAMP:20211216T183000Z
DESCRIPTION:περισσότερες πληροφορίες: https://mail.kinimatorama.net/event/1
 32734 
DTSTART:20211216T183000Z
DTEND:20211216T193000Z
GEO:+39.620611;+19.91523
LOCATION:Κέρκυρα\, \nκατάληψη Αντινομία \nπαλιό ψυχιατρείο
SUMMARY:Προβολή του ντοκυμαντέρ 'Μια ματιά στην punk και diy σκηνή στην ελλ
 άδα' & bar
URL:https://mail.kinimatorama.net/event/132734
END:VEVENT
END:VCALENDAR
