BEGIN:VCALENDAR
VERSION:2.0
PRODID:-//demosphere.net//NONSGML kigkonsult.se iCalcreator 2.22.1//
METHOD:REQUEST
X-WR-TIMEZONE:Europe/Athens
BEGIN:VEVENT
UID:https://mail.kinimatorama.net/event/133860
DTSTAMP:20220124T180000Z
DESCRIPTION:περισσότερες πληροφορίες: https://mail.kinimatorama.net/event/1
 33860 
DTSTART:20220124T180000Z
DTEND:20220124T190000Z
GEO:+39.620611;+19.91523
LOCATION:Κέρκυρα\, \nκατάληψη Αντινομία \nπαλιό ψυχιατρείο
SUMMARY:(εξ αναβολής) Ανοιχτή διαχειριστική συνέλευση της κατάληψης Αντινομ
 ία
URL:https://mail.kinimatorama.net/event/133860
END:VEVENT
END:VCALENDAR
