BEGIN:VCALENDAR
VERSION:2.0
PRODID:-//demosphere.net//NONSGML kigkonsult.se iCalcreator 2.22.1//
METHOD:REQUEST
X-WR-TIMEZONE:Europe/Athens
BEGIN:VEVENT
UID:https://mail.kinimatorama.net/event/135723
DTSTAMP:20220319T013300Z
DESCRIPTION:περισσότερες πληροφορίες: https://mail.kinimatorama.net/event/1
 35723 
DTSTART;VALUE=DATE:20220319
GEO:+39.620611;+19.91523
LOCATION:Κέρκυρα\, \nκατάληψη Αντινομία \nπαλιό ψυχιατρείο
SUMMARY:17 – 22 Μαρτίου [ Πρόγραμμα Κατάληψης ]
URL:https://mail.kinimatorama.net/event/135723
END:VEVENT
END:VCALENDAR
