BEGIN:VCALENDAR
VERSION:2.0
PRODID:-//demosphere.net//NONSGML kigkonsult.se iCalcreator 2.22.1//
METHOD:REQUEST
X-WR-TIMEZONE:Europe/Athens
BEGIN:VEVENT
UID:https://mail.kinimatorama.net/event/135793
DTSTAMP:20220331T150000Z
DESCRIPTION:περισσότερες πληροφορίες: https://mail.kinimatorama.net/event/1
 35793 
DTSTART:20220331T150000Z
DTEND:20220331T160000Z
GEO:+37.975682;+23.734846
LOCATION:Αθήνα\, \nΠλατεία Συντάγματος (Σύνταγμα)
SUMMARY:Συγκέντρωση Σωματείων και Συλλογικοτήτων 31 Μάρτη. Δεν θα είναι μέρ
 α σιωπής
URL:https://mail.kinimatorama.net/event/135793
END:VEVENT
END:VCALENDAR
