BEGIN:VCALENDAR
VERSION:2.0
PRODID:-//demosphere.net//NONSGML kigkonsult.se iCalcreator 2.22.1//
METHOD:REQUEST
X-WR-TIMEZONE:Europe/Athens
BEGIN:VEVENT
UID:https://mail.kinimatorama.net/event/137608
DTSTAMP:20220505T180000Z
DESCRIPTION:περισσότερες πληροφορίες: https://mail.kinimatorama.net/event/1
 37608 
DTSTART:20220505T180000Z
DTEND:20220505T190000Z
GEO:+39.620611;+19.91523
LOCATION:Κέρκυρα\, \nκατάληψη Αντινομία \nπαλιό ψυχιατρείο
SUMMARY:DIY bar για την κάλυψη των εξόδων του τριημέρου των γενεθλίων της κ
 ατάληψης
URL:https://mail.kinimatorama.net/event/137608
END:VEVENT
END:VCALENDAR
