BEGIN:VCALENDAR
VERSION:2.0
PRODID:-//demosphere.net//NONSGML kigkonsult.se iCalcreator 2.22.1//
METHOD:REQUEST
X-WR-TIMEZONE:Europe/Athens
BEGIN:VEVENT
UID:https://mail.kinimatorama.net/event/137789
DTSTAMP:20220516T150000Z
DESCRIPTION:περισσότερες πληροφορίες: https://mail.kinimatorama.net/event/1
 37789 
DTSTART:20220516T150000Z
DTEND:20220516T160000Z
GEO:+37.975682;+23.734846
LOCATION:Αθήνα\, \nΠλατεία Συντάγματος (Σύνταγμα)
SUMMARY:Μικροφωνική-Συγκέντρωση για τους Δ. Χατζηβασιλειάδη & Β. Σταθόπουλο
URL:https://mail.kinimatorama.net/event/137789
END:VEVENT
END:VCALENDAR
