BEGIN:VCALENDAR
VERSION:2.0
PRODID:-//demosphere.net//NONSGML kigkonsult.se iCalcreator 2.22.1//
METHOD:REQUEST
X-WR-TIMEZONE:Europe/Athens
BEGIN:VEVENT
UID:https://mail.kinimatorama.net/event/138189
DTSTAMP:20220518T170000Z
DESCRIPTION:περισσότερες πληροφορίες: https://mail.kinimatorama.net/event/1
 38189 
DTSTART:20220518T170000Z
DTEND:20220518T180000Z
GEO:+39.620611;+19.91523
LOCATION:Κέρκυρα\, \nκατάληψη Αντινομία \nπαλιό ψυχιατρείο
SUMMARY:Τηλεφωνική παρέμβαση συντρόφων/συντροφισσών
URL:https://mail.kinimatorama.net/event/138189
END:VEVENT
END:VCALENDAR
