BEGIN:VCALENDAR
VERSION:2.0
PRODID:-//demosphere.net//NONSGML kigkonsult.se iCalcreator 2.22.1//
METHOD:REQUEST
X-WR-TIMEZONE:Europe/Athens
BEGIN:VEVENT
UID:https://mail.kinimatorama.net/event/138862
DTSTAMP:20220603T160000Z
DESCRIPTION:περισσότερες πληροφορίες: https://mail.kinimatorama.net/event/1
 38862 
DTSTART:20220603T160000Z
DTEND:20220603T170000Z
GEO:+39.620611;+19.91523
LOCATION:Κέρκυρα\, \nκατάληψη Αντινομία \nπαλιό ψυχιατρείο
SUMMARY:Άνοιγμα αυτοοργανωμένου studio Πιγκάλ & DIY Hip hop Bar
URL:https://mail.kinimatorama.net/event/138862
END:VEVENT
END:VCALENDAR
