BEGIN:VCALENDAR
VERSION:2.0
PRODID:-//demosphere.net//NONSGML kigkonsult.se iCalcreator 2.22.1//
METHOD:REQUEST
X-WR-TIMEZONE:Europe/Athens
BEGIN:VEVENT
UID:https://mail.kinimatorama.net/event/139490
DTSTAMP:20220615T140000Z
DESCRIPTION:περισσότερες πληροφορίες: https://mail.kinimatorama.net/event/1
 39490 
DTSTART:20220615T140000Z
DTEND:20220615T150000Z
GEO:+39.620611;+19.91523
LOCATION:Κέρκυρα\, \nκατάληψη Αντινομία \nπαλιό ψυχιατρείο
SUMMARY:Συνέλευση Αντιφασιστικής-Αντιεξουσιαστικής Συλλογικότητας Hazet 36
URL:https://mail.kinimatorama.net/event/139490
END:VEVENT
END:VCALENDAR
