BEGIN:VCALENDAR
VERSION:2.0
PRODID:-//demosphere.net//NONSGML kigkonsult.se iCalcreator 2.22.1//
METHOD:REQUEST
X-WR-TIMEZONE:Europe/Athens
BEGIN:VEVENT
UID:https://mail.kinimatorama.net/event/143846
DTSTAMP:20221105T180000Z
DESCRIPTION:περισσότερες πληροφορίες: https://mail.kinimatorama.net/event/1
 43846 
DTSTART:20221105T180000Z
DTEND:20221105T190000Z
GEO:+39.620611;+19.91523
LOCATION:Κέρκυρα\, \nκατάληψη Αντινομία \nπαλιό ψυχιατρείο
SUMMARY:Προβολή της ταινίας 'Το ξυπόλητο τάγμα' & bar οικονομικής ενίσχυσης
URL:https://mail.kinimatorama.net/event/143846
END:VEVENT
END:VCALENDAR
