BEGIN:VCALENDAR
VERSION:2.0
PRODID:-//demosphere.net//NONSGML kigkonsult.se iCalcreator 2.22.1//
METHOD:REQUEST
X-WR-TIMEZONE:Europe/Athens
BEGIN:VEVENT
UID:https://mail.kinimatorama.net/event/143847
DTSTAMP:20221106T130000Z
DESCRIPTION:περισσότερες πληροφορίες: https://mail.kinimatorama.net/event/1
 43847 
DTSTART:20221106T130000Z
DTEND:20221106T140000Z
GEO:+39.620611;+19.91523
LOCATION:Κέρκυρα\, \nκατάληψη Αντινομία \nπαλιό ψυχιατρείο
SUMMARY:Ανοιχτή συνέλευση κουζίνας & άνοιγμα στούντιο Πιγκάλ
URL:https://mail.kinimatorama.net/event/143847
END:VEVENT
END:VCALENDAR
