BEGIN:VCALENDAR
VERSION:2.0
PRODID:-//demosphere.net//NONSGML kigkonsult.se iCalcreator 2.22.1//
METHOD:REQUEST
X-WR-TIMEZONE:Europe/Athens
BEGIN:VEVENT
UID:https://mail.kinimatorama.net/event/144485
DTSTAMP:20221126T120000Z
DESCRIPTION:περισσότερες πληροφορίες: https://mail.kinimatorama.net/event/1
 44485 
DTSTART:20221126T120000Z
DTEND:20221126T130000Z
GEO:+37.975682;+23.734846
LOCATION:Αθήνα\, \nΠλατεία Συντάγματος (Σύνταγμα)
SUMMARY:Συγκέντρωση αλληλεγγύης στους αναρχικούς Β. Σταθόπουλο & Δ. Χατζηβα
 σιλειάδη
URL:https://mail.kinimatorama.net/event/144485
END:VEVENT
END:VCALENDAR
