BEGIN:VCALENDAR
VERSION:2.0
PRODID:-//demosphere.net//NONSGML kigkonsult.se iCalcreator 2.22.1//
METHOD:REQUEST
X-WR-TIMEZONE:Europe/Athens
BEGIN:VEVENT
UID:https://mail.kinimatorama.net/event/145131
DTSTAMP:20221203T100000Z
DESCRIPTION:περισσότερες πληροφορίες: https://mail.kinimatorama.net/event/1
 45131 
DTSTART:20221203T100000Z
DTEND:20221203T110000Z
GEO:+39.620611;+19.91523
LOCATION:Κέρκυρα\, \nκατάληψη Αντινομία \nπαλιό ψυχιατρείο
SUMMARY:Μαγείρεμα Κοινωνικής Κουζίνας 'Το Καπνισμένο Τσουκάλι'
URL:https://mail.kinimatorama.net/event/145131
END:VEVENT
END:VCALENDAR
