BEGIN:VCALENDAR
VERSION:2.0
PRODID:-//demosphere.net//NONSGML kigkonsult.se iCalcreator 2.22.1//
METHOD:REQUEST
X-WR-TIMEZONE:Europe/Athens
BEGIN:VEVENT
UID:https://mail.kinimatorama.net/event/145427
DTSTAMP:20221221T180000Z
DESCRIPTION:περισσότερες πληροφορίες: https://mail.kinimatorama.net/event/1
 45427 
DTSTART:20221221T180000Z
DTEND:20221221T190000Z
GEO:+40.653653;+22.939807
LOCATION:Θεσσαλονίκη\, \nΣτέκι ΑΠΑΝ - Λαϊκής Βιβλιοθήκης \nΜουδανιών 18 \nΝ
 εάπολη
SUMMARY:Λειτουργία Δανειστικής Βιβλιοθήκης & προβολή ταινίας
URL:https://mail.kinimatorama.net/event/145427
END:VEVENT
END:VCALENDAR
