BEGIN:VCALENDAR
VERSION:2.0
PRODID:-//demosphere.net//NONSGML kigkonsult.se iCalcreator 2.22.1//
METHOD:REQUEST
X-WR-TIMEZONE:Europe/Athens
BEGIN:VEVENT
UID:https://mail.kinimatorama.net/event/145660
DTSTAMP:20221205T173000Z
DESCRIPTION:περισσότερες πληροφορίες: https://mail.kinimatorama.net/event/1
 45660 
DTSTART:20221205T173000Z
DTEND:20221205T183000Z
GEO:+37.975682;+23.734846
LOCATION:Αθήνα\, \nΠλατεία Συντάγματος (Σύνταγμα)
SUMMARY:Διαδήλωση ενάντια στην κρατική καταστολή\, ενάντια στον πυροβολισμό
  του 16χρονου
URL:https://mail.kinimatorama.net/event/145660
END:VEVENT
END:VCALENDAR
