BEGIN:VCALENDAR
VERSION:2.0
PRODID:-//demosphere.net//NONSGML kigkonsult.se iCalcreator 2.22.1//
METHOD:REQUEST
X-WR-TIMEZONE:Europe/Athens
BEGIN:VEVENT
UID:https://mail.kinimatorama.net/event/145878
DTSTAMP:20221211T160000Z
DESCRIPTION:περισσότερες πληροφορίες: https://mail.kinimatorama.net/event/1
 45878 
DTSTART:20221211T160000Z
DTEND:20221211T170000Z
GEO:+39.620611;+19.91523
LOCATION:Κέρκυρα\, \nκατάληψη Αντινομία \nπαλιό ψυχιατρείο
SUMMARY:(ακυρώνεται) Ανοιχτή διαχειριστική συνέλευση της κατάληψης Αντινομί
 α
URL:https://mail.kinimatorama.net/event/145878
END:VEVENT
END:VCALENDAR
