BEGIN:VCALENDAR
VERSION:2.0
PRODID:-//demosphere.net//NONSGML kigkonsult.se iCalcreator 2.22.1//
METHOD:REQUEST
X-WR-TIMEZONE:Europe/Athens
BEGIN:VEVENT
UID:https://mail.kinimatorama.net/event/145958
DTSTAMP:20221213T190000Z
DESCRIPTION:περισσότερες πληροφορίες: https://mail.kinimatorama.net/event/1
 45958 
DTSTART:20221213T190000Z
DTEND:20221213T200000Z
GEO:+39.620611;+19.91523
LOCATION:Κέρκυρα\, \nκατάληψη Αντινομία \nπαλιό ψυχιατρείο
SUMMARY:Προβολή του ντοκιμαντέρ 'Trying at home - A Documentary on DIY cult
 ure' και μπαρ
URL:https://mail.kinimatorama.net/event/145958
END:VEVENT
END:VCALENDAR
