BEGIN:VCALENDAR
VERSION:2.0
PRODID:-//demosphere.net//NONSGML kigkonsult.se iCalcreator 2.22.1//
METHOD:REQUEST
X-WR-TIMEZONE:Europe/Athens
BEGIN:VEVENT
UID:https://mail.kinimatorama.net/event/146018
DTSTAMP:20221215T190000Z
DESCRIPTION:περισσότερες πληροφορίες: https://mail.kinimatorama.net/event/1
 46018 
DTSTART:20221215T190000Z
DTEND:20221215T200000Z
GEO:+39.620611;+19.91523
LOCATION:Κέρκυρα\, \nκατάληψη Αντινομία \nπαλιό ψυχιατρείο
SUMMARY:Bar οικονομικής ενίσχυσης για τα ιατρικά έξοδα συντρόφου
URL:https://mail.kinimatorama.net/event/146018
END:VEVENT
END:VCALENDAR
