BEGIN:VCALENDAR
VERSION:2.0
PRODID:-//demosphere.net//NONSGML kigkonsult.se iCalcreator 2.22.1//
METHOD:REQUEST
X-WR-TIMEZONE:Europe/Athens
BEGIN:VEVENT
UID:https://mail.kinimatorama.net/event/146112
DTSTAMP:20230104T180000Z
DESCRIPTION:περισσότερες πληροφορίες: https://mail.kinimatorama.net/event/1
 46112 
DTSTART:20230104T180000Z
DTEND:20230104T190000Z
GEO:+40.653653;+22.939807
LOCATION:Θεσσαλονίκη\, \nΣτέκι ΑΠΑΝ - Λαϊκής Βιβλιοθήκης \nΜουδανιών 18 \nΝ
 εάπολη
SUMMARY:Προβολή ταινίας: Το φιλί της γυναίκας αράχνης
URL:https://mail.kinimatorama.net/event/146112
END:VEVENT
END:VCALENDAR
