BEGIN:VCALENDAR
VERSION:2.0
PRODID:-//demosphere.net//NONSGML kigkonsult.se iCalcreator 2.22.1//
METHOD:REQUEST
X-WR-TIMEZONE:Europe/Athens
BEGIN:VEVENT
UID:https://mail.kinimatorama.net/event/146416
DTSTAMP:20221223T160000Z
DESCRIPTION:περισσότερες πληροφορίες: https://mail.kinimatorama.net/event/1
 46416 
DTSTART:20221223T160000Z
DTEND:20221223T170000Z
GEO:+37.975682;+23.734846
LOCATION:Αθήνα\, \nΠλατεία Συντάγματος (Σύνταγμα)
SUMMARY:Τώρα Κάλεσμα Σύνταγμα Πορεία προς γαλλική πρεσβεία
URL:https://mail.kinimatorama.net/event/146416
END:VEVENT
END:VCALENDAR
