BEGIN:VCALENDAR
VERSION:2.0
PRODID:-//demosphere.net//NONSGML kigkonsult.se iCalcreator 2.22.1//
METHOD:REQUEST
X-WR-TIMEZONE:Europe/Athens
BEGIN:VEVENT
UID:https://mail.kinimatorama.net/event/146529
DTSTAMP:20221229T170000Z
DESCRIPTION:περισσότερες πληροφορίες: https://mail.kinimatorama.net/event/1
 46529 
DTSTART:20221229T170000Z
DTEND:20221229T180000Z
GEO:+37.975682;+23.734846
LOCATION:Αθήνα\, \nΠλατεία Συντάγματος (Σύνταγμα)
SUMMARY:Συγκέντρωση αλληλεγγύης στον αναρχικό απεργό πείνας και δίψας Θάνο 
 Χατζηαγγέλου
URL:https://mail.kinimatorama.net/event/146529
END:VEVENT
END:VCALENDAR
