BEGIN:VCALENDAR
VERSION:2.0
PRODID:-//demosphere.net//NONSGML kigkonsult.se iCalcreator 2.22.1//
METHOD:REQUEST
X-WR-TIMEZONE:Europe/Athens
BEGIN:VEVENT
UID:https://mail.kinimatorama.net/event/146902
DTSTAMP:20230112T160000Z
DESCRIPTION:περισσότερες πληροφορίες: https://mail.kinimatorama.net/event/1
 46902 
DTSTART:20230112T160000Z
DTEND:20230112T170000Z
GEO:+39.620611;+19.91523
LOCATION:Κέρκυρα\, \nκατάληψη Αντινομία \nπαλιό ψυχιατρείο
SUMMARY:Bazaar Bιβλίου με παλιές και νέες εκδόσεις του αναρχικού και αντιεξ
 ουσιαστικού χώρου
URL:https://mail.kinimatorama.net/event/146902
END:VEVENT
END:VCALENDAR
