BEGIN:VCALENDAR
VERSION:2.0
PRODID:-//demosphere.net//NONSGML kigkonsult.se iCalcreator 2.22.1//
METHOD:REQUEST
X-WR-TIMEZONE:Europe/Athens
BEGIN:VEVENT
UID:https://mail.kinimatorama.net/event/14718
DTSTAMP:20111118T180000Z
DESCRIPTION:περισσότερες πληροφορίες: https://mail.kinimatorama.net/event/1
 4718 
DTSTART:20111118T180000Z
DTEND:20111118T190000Z
GEO:+37.975682;+23.734846
LOCATION:Αθήνα\, \nΠλατεία Συντάγματος (Σύνταγμα)
SUMMARY:Aνοιχτή Συζήτηση για οργάνωση άρνησης πληρωμών από τα κάτω
URL:https://mail.kinimatorama.net/event/14718
END:VEVENT
END:VCALENDAR
