BEGIN:VCALENDAR
VERSION:2.0
PRODID:-//demosphere.net//NONSGML kigkonsult.se iCalcreator 2.22.1//
METHOD:REQUEST
X-WR-TIMEZONE:Europe/Athens
BEGIN:VEVENT
UID:https://mail.kinimatorama.net/event/147243
DTSTAMP:20230126T180000Z
DESCRIPTION:περισσότερες πληροφορίες: https://mail.kinimatorama.net/event/1
 47243 
DTSTART:20230126T180000Z
DTEND:20230126T190000Z
GEO:+39.620611;+19.91523
LOCATION:Κέρκυρα\, \nκατάληψη Αντινομία \nπαλιό ψυχιατρείο
SUMMARY:Προβολή ντοκιμαντέρ: KAMPSA\, 20 years of dreams and debris
URL:https://mail.kinimatorama.net/event/147243
END:VEVENT
END:VCALENDAR
