BEGIN:VCALENDAR
VERSION:2.0
PRODID:-//demosphere.net//NONSGML kigkonsult.se iCalcreator 2.22.1//
METHOD:REQUEST
X-WR-TIMEZONE:Europe/Athens
BEGIN:VEVENT
UID:https://mail.kinimatorama.net/event/147347
DTSTAMP:20230205T110000Z
DESCRIPTION:περισσότερες πληροφορίες: https://mail.kinimatorama.net/event/1
 47347 
DTSTART:20230205T110000Z
DTEND:20230205T120000Z
GEO:+37.975682;+23.734846
LOCATION:Αθήνα\, \nΠλατεία Συντάγματος (Σύνταγμα)
SUMMARY:Συγκέντρωση μνήμης και αγώνα για τα θύματα των συνόρων - Commemorac
 tion Day
URL:https://mail.kinimatorama.net/event/147347
END:VEVENT
END:VCALENDAR
