BEGIN:VCALENDAR
VERSION:2.0
PRODID:-//demosphere.net//NONSGML kigkonsult.se iCalcreator 2.22.1//
METHOD:REQUEST
X-WR-TIMEZONE:Europe/Athens
BEGIN:VEVENT
UID:https://mail.kinimatorama.net/event/147798
DTSTAMP:20230209T190000Z
DESCRIPTION:περισσότερες πληροφορίες: https://mail.kinimatorama.net/event/1
 47798 
DTSTART:20230209T190000Z
DTEND:20230209T200000Z
GEO:+39.620611;+19.91523
LOCATION:Κέρκυρα\, \nκατάληψη Αντινομία \nπαλιό ψυχιατρείο
SUMMARY:DIY Bar για τα δικαστικά έξοδα των 4 διωκόμενων της υπόθεσης 'Σύντρ
 οφοι-ισσες'
URL:https://mail.kinimatorama.net/event/147798
END:VEVENT
END:VCALENDAR
