BEGIN:VCALENDAR
VERSION:2.0
PRODID:-//demosphere.net//NONSGML kigkonsult.se iCalcreator 2.22.1//
METHOD:REQUEST
X-WR-TIMEZONE:Europe/Athens
BEGIN:VEVENT
UID:https://mail.kinimatorama.net/event/147801
DTSTAMP:20230211T200000Z
DESCRIPTION:περισσότερες πληροφορίες: https://mail.kinimatorama.net/event/1
 47801 
DTSTART:20230211T200000Z
DTEND:20230211T210000Z
GEO:+39.620611;+19.91523
LOCATION:Κέρκυρα\, \nκατάληψη Αντινομία \nπαλιό ψυχιατρείο
SUMMARY:Live Οικονομικής ενίσχυσης από την συναυλιακή ομάδα 'Lotka Volterra
 '
URL:https://mail.kinimatorama.net/event/147801
END:VEVENT
END:VCALENDAR
