BEGIN:VCALENDAR
VERSION:2.0
PRODID:-//demosphere.net//NONSGML kigkonsult.se iCalcreator 2.22.1//
METHOD:REQUEST
X-WR-TIMEZONE:Europe/Athens
BEGIN:VEVENT
UID:https://mail.kinimatorama.net/event/148085
DTSTAMP:20230214T190000Z
DESCRIPTION:περισσότερες πληροφορίες: https://mail.kinimatorama.net/event/1
 48085 
DTSTART:20230214T190000Z
DTEND:20230214T200000Z
GEO:+39.620611;+19.91523
LOCATION:Κέρκυρα\, \nκατάληψη Αντινομία \nπαλιό ψυχιατρείο
SUMMARY:Προβολή του ντοκιμαντέρ 'Sisters With Transistors' & bar οικονομική
 ς ενίσχυσης
URL:https://mail.kinimatorama.net/event/148085
END:VEVENT
END:VCALENDAR
