BEGIN:VCALENDAR
VERSION:2.0
PRODID:-//demosphere.net//NONSGML kigkonsult.se iCalcreator 2.22.1//
METHOD:REQUEST
X-WR-TIMEZONE:Europe/Athens
BEGIN:VEVENT
UID:https://mail.kinimatorama.net/event/148137
DTSTAMP:20230216T160000Z
DESCRIPTION:περισσότερες πληροφορίες: https://mail.kinimatorama.net/event/1
 48137 
DTSTART:20230216T160000Z
DTEND:20230216T170000Z
GEO:+39.620611;+19.91523
LOCATION:Κέρκυρα\, \nκατάληψη Αντινομία \nπαλιό ψυχιατρείο
SUMMARY:Αυτοοργανωμένο Καφενείο για τα διωκόμενα συντρόφια της Terra Incogn
 ita
URL:https://mail.kinimatorama.net/event/148137
END:VEVENT
END:VCALENDAR
