BEGIN:VCALENDAR
VERSION:2.0
PRODID:-//demosphere.net//NONSGML kigkonsult.se iCalcreator 2.22.1//
METHOD:REQUEST
X-WR-TIMEZONE:Europe/Athens
BEGIN:VEVENT
UID:https://mail.kinimatorama.net/event/148177
DTSTAMP:20230219T120000Z
DESCRIPTION:περισσότερες πληροφορίες: https://mail.kinimatorama.net/event/1
 48177 
DTSTART:20230219T120000Z
DTEND:20230219T130000Z
GEO:+40.653653;+22.939807
LOCATION:Θεσσαλονίκη\, \nΣτέκι ΑΠΑΝ - Λαϊκής Βιβλιοθήκης \nΜουδανιών 18 \nΝ
 εάπολη
SUMMARY:Τουρνουά 'Τάβλι'- Καφενείο με μικρασιάτικη μουσική
URL:https://mail.kinimatorama.net/event/148177
END:VEVENT
END:VCALENDAR
