BEGIN:VCALENDAR
VERSION:2.0
PRODID:-//demosphere.net//NONSGML kigkonsult.se iCalcreator 2.22.1//
METHOD:REQUEST
X-WR-TIMEZONE:Europe/Athens
BEGIN:VEVENT
UID:https://mail.kinimatorama.net/event/148203
DTSTAMP:20230308T180000Z
DESCRIPTION:περισσότερες πληροφορίες: https://mail.kinimatorama.net/event/1
 48203 
DTSTART:20230308T180000Z
DTEND:20230308T190000Z
GEO:+40.653653;+22.939807
LOCATION:Θεσσαλονίκη\, \nΣτέκι ΑΠΑΝ - Λαϊκής Βιβλιοθήκης \nΜουδανιών 18 \nΝ
 εάπολη
SUMMARY:(αναβάλλεται) Αφιέρωμα στον Βαλκανικό Κινηματογράφο από τα 'Cin-ΑΠΑ
 Ντήματα'
URL:https://mail.kinimatorama.net/event/148203
END:VEVENT
END:VCALENDAR
