BEGIN:VCALENDAR
VERSION:2.0
PRODID:-//demosphere.net//NONSGML kigkonsult.se iCalcreator 2.22.1//
METHOD:REQUEST
X-WR-TIMEZONE:Europe/Athens
BEGIN:VEVENT
UID:https://mail.kinimatorama.net/event/148400
DTSTAMP:20230225T210000Z
DESCRIPTION:περισσότερες πληροφορίες: https://mail.kinimatorama.net/event/1
 48400 
DTSTART:20230225T210000Z
DTEND:20230225T220000Z
GEO:+39.620611;+19.91523
LOCATION:Κέρκυρα\, \nκατάληψη Αντινομία \nπαλιό ψυχιατρείο
SUMMARY:Dance Party οικονομικής ενίσχυσης για την αγορά ηχητικού εξοπλισμού
URL:https://mail.kinimatorama.net/event/148400
END:VEVENT
END:VCALENDAR
