BEGIN:VCALENDAR
VERSION:2.0
PRODID:-//demosphere.net//NONSGML kigkonsult.se iCalcreator 2.22.1//
METHOD:REQUEST
X-WR-TIMEZONE:Europe/Athens
BEGIN:VEVENT
UID:https://mail.kinimatorama.net/event/149246
DTSTAMP:20230309T180000Z
DESCRIPTION:περισσότερες πληροφορίες: https://mail.kinimatorama.net/event/1
 49246 
DTSTART:20230309T180000Z
DTEND:20230309T190000Z
GEO:+39.620611;+19.91523
LOCATION:Κέρκυρα\, \nκατάληψη Αντινομία \nπαλιό ψυχιατρείο
SUMMARY:Προβολή του ντοκιμαντέρ 'Μαγειρεύοντας αλληλεγγύη' & αυτοοργανωμένο
  μπαρ
URL:https://mail.kinimatorama.net/event/149246
END:VEVENT
END:VCALENDAR
