BEGIN:VCALENDAR
VERSION:2.0
PRODID:-//demosphere.net//NONSGML kigkonsult.se iCalcreator 2.22.1//
METHOD:REQUEST
X-WR-TIMEZONE:Europe/Athens
BEGIN:VEVENT
UID:https://mail.kinimatorama.net/event/150171
DTSTAMP:20230325T100000Z
DESCRIPTION:περισσότερες πληροφορίες: https://mail.kinimatorama.net/event/1
 50171 
DTSTART:20230325T100000Z
DTEND:20230325T110000Z
GEO:+39.620611;+19.91523
LOCATION:Κέρκυρα\, \nκατάληψη Αντινομία \nπαλιό ψυχιατρείο
SUMMARY:Μαγείρεμα Κοινωνικής Κουζίνας
URL:https://mail.kinimatorama.net/event/150171
END:VEVENT
END:VCALENDAR
