BEGIN:VCALENDAR
VERSION:2.0
PRODID:-//demosphere.net//NONSGML kigkonsult.se iCalcreator 2.22.1//
METHOD:REQUEST
X-WR-TIMEZONE:Europe/Athens
BEGIN:VEVENT
UID:https://mail.kinimatorama.net/event/150173
DTSTAMP:20230325T180000Z
DESCRIPTION:περισσότερες πληροφορίες: https://mail.kinimatorama.net/event/1
 50173 
DTSTART:20230325T180000Z
DTEND:20230325T190000Z
GEO:+39.620611;+19.91523
LOCATION:Κέρκυρα\, \nκατάληψη Αντινομία \nπαλιό ψυχιατρείο
SUMMARY:Αυτοοργανωμένο open jam από το στούντιο Πιγκάλ
URL:https://mail.kinimatorama.net/event/150173
END:VEVENT
END:VCALENDAR
