BEGIN:VCALENDAR
VERSION:2.0
PRODID:-//demosphere.net//NONSGML kigkonsult.se iCalcreator 2.22.1//
METHOD:REQUEST
X-WR-TIMEZONE:Europe/Athens
BEGIN:VEVENT
UID:https://mail.kinimatorama.net/event/151153
DTSTAMP:20230421T170000Z
DESCRIPTION:περισσότερες πληροφορίες: https://mail.kinimatorama.net/event/1
 51153 
DTSTART:20230421T170000Z
DTEND:20230421T180000Z
GEO:+39.620611;+19.91523
LOCATION:Κέρκυρα\, \nκατάληψη Αντινομία \nπαλιό ψυχιατρείο
SUMMARY:Συζήτηση: Τέχνη & αντιτέχνη σε θολούς καιρούς
URL:https://mail.kinimatorama.net/event/151153
END:VEVENT
END:VCALENDAR
