BEGIN:VCALENDAR
VERSION:2.0
PRODID:-//demosphere.net//NONSGML kigkonsult.se iCalcreator 2.22.1//
METHOD:REQUEST
X-WR-TIMEZONE:Europe/Athens
BEGIN:VEVENT
UID:https://mail.kinimatorama.net/event/151501
DTSTAMP:20230427T180000Z
DESCRIPTION:περισσότερες πληροφορίες: https://mail.kinimatorama.net/event/1
 51501 
DTSTART:20230427T180000Z
DTEND:20230427T190000Z
GEO:+39.620611;+19.91523
LOCATION:Κέρκυρα\, \nκατάληψη Αντινομία \nπαλιό ψυχιατρείο
SUMMARY:Μπαρ οικονομικής ενίσχυσης της κατάληψης Αντινομία
URL:https://mail.kinimatorama.net/event/151501
END:VEVENT
END:VCALENDAR
