BEGIN:VCALENDAR
VERSION:2.0
PRODID:-//demosphere.net//NONSGML kigkonsult.se iCalcreator 2.22.1//
METHOD:REQUEST
X-WR-TIMEZONE:Europe/Athens
BEGIN:VEVENT
UID:https://mail.kinimatorama.net/event/152226
DTSTAMP:20230517T153000Z
DESCRIPTION:περισσότερες πληροφορίες: https://mail.kinimatorama.net/event/1
 52226 
DTSTART:20230517T153000Z
DTEND:20230517T163000Z
GEO:+37.975682;+23.734846
LOCATION:Αθήνα\, \nΠλατεία Συντάγματος (Σύνταγμα)
SUMMARY:(ακυρώνεται μόνο στην Αθήνα) Συγκέντρωση για τον ΛΟΑΤΚΙ Γάμο και τη
  Γονεϊκότητα
URL:https://mail.kinimatorama.net/event/152226
END:VEVENT
END:VCALENDAR
