BEGIN:VCALENDAR
VERSION:2.0
PRODID:-//demosphere.net//NONSGML kigkonsult.se iCalcreator 2.22.1//
METHOD:REQUEST
X-WR-TIMEZONE:Europe/Athens
BEGIN:VEVENT
UID:https://mail.kinimatorama.net/event/152470
DTSTAMP:20230522T160000Z
DESCRIPTION:περισσότερες πληροφορίες: https://mail.kinimatorama.net/event/1
 52470 
DTSTART:20230522T160000Z
DTEND:20230522T170000Z
GEO:+39.620611;+19.91523
LOCATION:Κέρκυρα\, \nκατάληψη Αντινομία \nπαλιό ψυχιατρείο
SUMMARY:Ανοιχτή συνέλευση της κοινωνικής κουζίνας 'Το Καπνισμένο Τσουκάλι'
URL:https://mail.kinimatorama.net/event/152470
END:VEVENT
END:VCALENDAR
