BEGIN:VCALENDAR
VERSION:2.0
PRODID:-//demosphere.net//NONSGML kigkonsult.se iCalcreator 2.22.1//
METHOD:REQUEST
X-WR-TIMEZONE:Europe/Athens
BEGIN:VEVENT
UID:https://mail.kinimatorama.net/event/152622
DTSTAMP:20230529T160000Z
DESCRIPTION:περισσότερες πληροφορίες: https://mail.kinimatorama.net/event/1
 52622 
DTSTART:20230529T160000Z
DTEND:20230529T170000Z
GEO:+39.620611;+19.91523
LOCATION:Κέρκυρα\, \nκατάληψη Αντινομία \nπαλιό ψυχιατρείο
SUMMARY:Ανοιχτή συνέλευση της κοινωνικής κουζίνας 'Το καπνισμένο τσουκάλι'
URL:https://mail.kinimatorama.net/event/152622
END:VEVENT
END:VCALENDAR
