BEGIN:VCALENDAR
VERSION:2.0
PRODID:-//demosphere.net//NONSGML kigkonsult.se iCalcreator 2.22.1//
METHOD:REQUEST
X-WR-TIMEZONE:Europe/Athens
BEGIN:VEVENT
UID:https://mail.kinimatorama.net/event/153103
DTSTAMP:20230616T100000Z
DESCRIPTION:περισσότερες πληροφορίες: https://mail.kinimatorama.net/event/1
 53103 
DTSTART:20230616T100000Z
DTEND:20230616T110000Z
GEO:+37.975682;+23.734846
LOCATION:Αθήνα\, \nΠλατεία Συντάγματος (Σύνταγμα)
SUMMARY:(αναβάλλεται) Συγκέντρωση διαμαρτυρίας
URL:https://mail.kinimatorama.net/event/153103
END:VEVENT
END:VCALENDAR
