BEGIN:VCALENDAR
VERSION:2.0
PRODID:-//demosphere.net//NONSGML kigkonsult.se iCalcreator 2.22.1//
METHOD:REQUEST
X-WR-TIMEZONE:Europe/Athens
BEGIN:VEVENT
UID:https://mail.kinimatorama.net/event/154430
DTSTAMP:20230729T080000Z
DESCRIPTION:περισσότερες πληροφορίες: https://mail.kinimatorama.net/event/1
 54430 
DTSTART:20230729T080000Z
DTEND:20230729T090000Z
GEO:+39.620611;+19.91523
LOCATION:Κέρκυρα\, \nκατάληψη Αντινομία \nπαλιό ψυχιατρείο
SUMMARY:Συλλογικό μαγείρεμα & συλλογή ιατρικών ειδών
URL:https://mail.kinimatorama.net/event/154430
END:VEVENT
END:VCALENDAR
