BEGIN:VCALENDAR
VERSION:2.0
PRODID:-//demosphere.net//NONSGML kigkonsult.se iCalcreator 2.22.1//
METHOD:REQUEST
X-WR-TIMEZONE:Europe/Athens
BEGIN:VEVENT
UID:https://mail.kinimatorama.net/event/154658
DTSTAMP:20230824T160000Z
DESCRIPTION:περισσότερες πληροφορίες: https://mail.kinimatorama.net/event/1
 54658 
DTSTART:20230824T160000Z
DTEND:20230824T170000Z
GEO:+37.975682;+23.734846
LOCATION:Αθήνα\, \nΠλατεία Συντάγματος (Σύνταγμα)
SUMMARY:Κάλεσμα ενάντια στην πολιτική που πυρπολεί τη ζωή μας
URL:https://mail.kinimatorama.net/event/154658
END:VEVENT
END:VCALENDAR
