BEGIN:VCALENDAR
VERSION:2.0
PRODID:-//demosphere.net//NONSGML kigkonsult.se iCalcreator 2.22.1//
METHOD:REQUEST
X-WR-TIMEZONE:Europe/Athens
BEGIN:VEVENT
UID:https://mail.kinimatorama.net/event/156362
DTSTAMP:20231013T160000Z
DESCRIPTION:περισσότερες πληροφορίες: https://mail.kinimatorama.net/event/1
 56362 
DTSTART:20231013T160000Z
DTEND:20231013T170000Z
GEO:+39.620611;+19.91523
LOCATION:Κέρκυρα\, \nκατάληψη Αντινομία \nπαλιό ψυχιατρείο
SUMMARY:Συνέλευση αλληλεγγύης στην Κατάληψη Ευαγγελισμός
URL:https://mail.kinimatorama.net/event/156362
END:VEVENT
END:VCALENDAR
