BEGIN:VCALENDAR
VERSION:2.0
PRODID:-//demosphere.net//NONSGML kigkonsult.se iCalcreator 2.22.1//
METHOD:REQUEST
X-WR-TIMEZONE:Europe/Athens
BEGIN:VEVENT
UID:https://mail.kinimatorama.net/event/156664
DTSTAMP:20231020T160000Z
DESCRIPTION:περισσότερες πληροφορίες: https://mail.kinimatorama.net/event/1
 56664 
DTSTART:20231020T160000Z
DTEND:20231020T170000Z
GEO:+39.620611;+19.91523
LOCATION:Κέρκυρα\, \nκατάληψη Αντινομία \nπαλιό ψυχιατρείο
SUMMARY:Ανοιχτή Συνέλευση Αλληλεγγύης στην Κατάληψη Ευαγγελισμός & DIY bar
URL:https://mail.kinimatorama.net/event/156664
END:VEVENT
END:VCALENDAR
